data_JBW

#**************************************************************************
#
# CIF taken from the IZA-SC Database of Zeolite Structures
# Ch. Baerlocher and L.B. McCusker
# Database of Zeolite Structures: http://www.iza-structure.org/databases/ 
#
# The atom coordinates and the cell parameters were optimized with DLS76
# assuming a pure SiO2 composition.
#
#**************************************************************************

_cell_length_a                   5.2560(0)
_cell_length_b                   7.4500(0)
_cell_length_c                   8.1590(0)
_cell_angle_alpha               90.0000(0)
_cell_angle_beta                90.0000(0)
_cell_angle_gamma               90.0000(0)

_symmetry_space_group_name_H-M     'P m m a'
_symmetry_Int_Tables_number         51
_symmetry_cell_setting             orthorhombic

loop_
_symmetry_equiv_pos_as_xyz
'+x,+y,+z'
'1/2-x,+y,+z'
'+x,-y,+z'
'1/2-x,-y,+z'
'-x,-y,-z'
'1/2+x,-y,-z'
'-x,+y,-z'
'1/2+x,+y,-z'

loop_
_atom_site_label
_atom_site_type_symbol
_atom_site_fract_x
_atom_site_fract_y
_atom_site_fract_z
    O1    O     0.0000    0.2612    0.0000
    O2    O     0.2500    0.0000    0.1455
    O3    O     0.2500    0.3235    0.2728
    O4    O     0.5000    0.5000    0.5000
    T1    Si    0.2500    0.2111    0.1042
    T2    Si    0.2500    0.5000    0.3865

